BEGIN:VCALENDAR
VERSION:2.0
PRODID:-//hacksw/handcal//NONSGML v1.0//EN
BEGIN:VEVENT
UID:tournoi14457@badiste.fr
DTSTAMP:20260426T031942Z
DTSTART;VALUE=DATE:20230513
DTEND;VALUE=DATE:20230515
DESCRIPTION: http://badiste.fr
LOCATION:   69000 Lyon
SUMMARY:PLVPBad 2023
END:VEVENT
END:VCALENDAR