BEGIN:VCALENDAR
VERSION:2.0
PRODID:-//hacksw/handcal//NONSGML v1.0//EN
BEGIN:VEVENT
UID:tournoi14428@badiste.fr
DTSTAMP:20260421T165648Z
DTSTART;VALUE=DATE:20230311
DTEND;VALUE=DATE:20230313
DESCRIPTION: http://badiste.fr
LOCATION:jacques prevert 1 Place Lucie AUBRAC  30380 Saint-Christol-lès-Alès
SUMMARY:Bad Girls
END:VEVENT
END:VCALENDAR