BEGIN:VCALENDAR
VERSION:2.0
PRODID:-//hacksw/handcal//NONSGML v1.0//EN
BEGIN:VEVENT
UID:tournoi14427@badiste.fr
DTSTAMP:20260421T131750Z
DTSTART;VALUE=DATE:20230113
DTEND;VALUE=DATE:20230114
DESCRIPTION: http://badiste.fr
LOCATION:Centre Marcel Brunot 110 rue du 4 août 1789  69100 Villeurbanne
SUMMARY:1er FRIDAY NIGHT BAD
END:VEVENT
END:VCALENDAR