BEGIN:VCALENDAR
VERSION:2.0
PRODID:-//hacksw/handcal//NONSGML v1.0//EN
BEGIN:VEVENT
UID:tournoi14413@badiste.fr
DTSTAMP:20260421T173955Z
DTSTART;VALUE=DATE:20230422
DTEND;VALUE=DATE:20230424
DESCRIPTION: http://badiste.fr
LOCATION:Gymnase Adrien Ricaud Avenue de la Côte Bleue  13820 ENSUES LA REDONNE
SUMMARY:5E TOURNOI DE LA REDONNE
END:VEVENT
END:VCALENDAR