BEGIN:VCALENDAR
VERSION:2.0
PRODID:-//hacksw/handcal//NONSGML v1.0//EN
BEGIN:VEVENT
UID:tournoi14398@badiste.fr
DTSTAMP:20260422T152333Z
DTSTART;VALUE=DATE:20230212
DTEND;VALUE=DATE:20230213
DESCRIPTION: http://badiste.fr
LOCATION:HENRI BEAUFOL CHEMIN TROMPE SOURIS  18310 Graçay
SUMMARY:BADACRÊPES NUMBER 3
END:VEVENT
END:VCALENDAR