BEGIN:VCALENDAR
VERSION:2.0
PRODID:-//hacksw/handcal//NONSGML v1.0//EN
BEGIN:VEVENT
UID:tournoi14371@badiste.fr
DTSTAMP:20260425T120941Z
DTSTART;VALUE=DATE:20230814
DTEND;VALUE=DATE:20230819
DESCRIPTION: http://badiste.fr
LOCATION:Gymnase de l'Envolée   73120 Courchevel
SUMMARY:+2Bad Stages Adultes Courchevel Été 2023 14-19/08
END:VEVENT
END:VCALENDAR