BEGIN:VCALENDAR
VERSION:2.0
PRODID:-//hacksw/handcal//NONSGML v1.0//EN
BEGIN:VEVENT
UID:tournoi14367@badiste.fr
DTSTAMP:20260425T120902Z
DTSTART;VALUE=DATE:20230806
DTEND;VALUE=DATE:20230812
DESCRIPTION: http://badiste.fr
LOCATION:CREPS de Dinard   73120 Dinard
SUMMARY:+2Bad Stages Jeunes Dinard Été 2023 06-12/08
END:VEVENT
END:VCALENDAR