BEGIN:VCALENDAR
VERSION:2.0
PRODID:-//hacksw/handcal//NONSGML v1.0//EN
BEGIN:VEVENT
UID:tournoi14366@badiste.fr
DTSTAMP:20260425T120903Z
DTSTART;VALUE=DATE:20230723
DTEND;VALUE=DATE:20230729
DESCRIPTION: http://badiste.fr
LOCATION:CREPS de Dinard   35800 Dinard
SUMMARY:+2Bad Stages Jeunes Dinard Été 2023 23-29/07
END:VEVENT
END:VCALENDAR