BEGIN:VCALENDAR
VERSION:2.0
PRODID:-//hacksw/handcal//NONSGML v1.0//EN
BEGIN:VEVENT
UID:tournoi14365@badiste.fr
DTSTAMP:20260425T120940Z
DTSTART;VALUE=DATE:20230723
DTEND;VALUE=DATE:20230729
DESCRIPTION: http://badiste.fr
LOCATION:   35800 Dinard
SUMMARY:+2Bad Stages Dinard Jeunes
END:VEVENT
END:VCALENDAR