BEGIN:VCALENDAR
VERSION:2.0
PRODID:-//hacksw/handcal//NONSGML v1.0//EN
BEGIN:VEVENT
UID:tournoi14364@badiste.fr
DTSTAMP:20260425T120903Z
DTSTART;VALUE=DATE:20230820
DTEND;VALUE=DATE:20230826
DESCRIPTION: http://badiste.fr
LOCATION:Gymnase de l'Envolée   73120 Courchevel
SUMMARY:+2Bad Stages Jeunes Courchevel Été 2023 20-26/08
END:VEVENT
END:VCALENDAR