BEGIN:VCALENDAR
VERSION:2.0
PRODID:-//hacksw/handcal//NONSGML v1.0//EN
BEGIN:VEVENT
UID:tournoi14356@badiste.fr
DTSTAMP:20260424T152936Z
DTSTART;VALUE=DATE:20230107
DTEND;VALUE=DATE:20230108
DESCRIPTION: http://badiste.fr
LOCATION:La Fontonne 21 Chemin des Frères Garbero  06600 Antibes
SUMMARY:Challenge du Jeune Badiste
END:VEVENT
END:VCALENDAR