BEGIN:VCALENDAR
VERSION:2.0
PRODID:-//hacksw/handcal//NONSGML v1.0//EN
BEGIN:VEVENT
UID:tournoi14338@badiste.fr
DTSTAMP:20260425T120935Z
DTSTART;VALUE=DATE:20230716
DTEND;VALUE=DATE:20230722
DESCRIPTION: http://badiste.fr
LOCATION:CREPS de Dinard   35800 Dinard
SUMMARY:+2Bad Stages Jeunes Dinard Été 2023 16-22/07
END:VEVENT
END:VCALENDAR