BEGIN:VCALENDAR
VERSION:2.0
PRODID:-//hacksw/handcal//NONSGML v1.0//EN
BEGIN:VEVENT
UID:tournoi14337@badiste.fr
DTSTAMP:20260425T120931Z
DTSTART;VALUE=DATE:20230723
DTEND;VALUE=DATE:20230729
DESCRIPTION: http://badiste.fr
LOCATION:Gymnase de l'Envolée   73120 Courchevel
SUMMARY:+2Bad Stages Jeunes Courchevel Été 2023
END:VEVENT
END:VCALENDAR