BEGIN:VCALENDAR
VERSION:2.0
PRODID:-//hacksw/handcal//NONSGML v1.0//EN
BEGIN:VEVENT
UID:tournoi14302@badiste.fr
DTSTAMP:20260423T051555Z
DTSTART;VALUE=DATE:20230218
DTEND;VALUE=DATE:20230220
DESCRIPTION: http://badiste.fr
LOCATION:LEO LAGRANGE et COUBERTIN bd alfred casile  13127 Vitrolles
SUMMARY:6ème Tournoi de Doubles Vitrollais 2023
END:VEVENT
END:VCALENDAR