BEGIN:VCALENDAR
VERSION:2.0
PRODID:-//hacksw/handcal//NONSGML v1.0//EN
BEGIN:VEVENT
UID:tournoi14300@badiste.fr
DTSTAMP:20260421T181953Z
DTSTART;VALUE=DATE:20221126
DTEND;VALUE=DATE:20221128
DESCRIPTION: http://badiste.fr
LOCATION:UFR STAPS   06000 Nice
SUMMARY:TOURNOI DES AIGLONS
END:VEVENT
END:VCALENDAR