BEGIN:VCALENDAR
VERSION:2.0
PRODID:-//hacksw/handcal//NONSGML v1.0//EN
BEGIN:VEVENT
UID:tournoi14277@badiste.fr
DTSTAMP:20260421T125610Z
DTSTART;VALUE=DATE:20230106
DTEND;VALUE=DATE:20230107
DESCRIPTION: http://badiste.fr
LOCATION:   35170 Bruz
SUMMARY:DM nocturne Bruz
END:VEVENT
END:VCALENDAR