BEGIN:VCALENDAR
VERSION:2.0
PRODID:-//hacksw/handcal//NONSGML v1.0//EN
BEGIN:VEVENT
UID:tournoi14265@badiste.fr
DTSTAMP:20260421T165648Z
DTSTART;VALUE=DATE:20221126
DTEND;VALUE=DATE:20221128
DESCRIPTION: http://badiste.fr
LOCATION:jacques prevert 1 Place Lucie AUBRAC  30380 Saint-Christol-lès-Alès
SUMMARY:Bad Boys Ales
END:VEVENT
END:VCALENDAR