BEGIN:VCALENDAR
VERSION:2.0
PRODID:-//hacksw/handcal//NONSGML v1.0//EN
BEGIN:VEVENT
UID:tournoi14230@badiste.fr
DTSTAMP:20260422T014643Z
DTSTART;VALUE=DATE:20230114
DTEND;VALUE=DATE:20230116
DESCRIPTION: http://badiste.fr
LOCATION:Gymnase Claude METENDIER   74270 Frangy
SUMMARY:Tournoi adulte de FRANGY
END:VEVENT
END:VCALENDAR