BEGIN:VCALENDAR
VERSION:2.0
PRODID:-//hacksw/handcal//NONSGML v1.0//EN
BEGIN:VEVENT
UID:tournoi14229@badiste.fr
DTSTAMP:20260422T013515Z
DTSTART;VALUE=DATE:20221025
DTEND;VALUE=DATE:20221026
DESCRIPTION: http://badiste.fr
LOCATION:Gymnase Claude METENDIER   74270 Frangy
SUMMARY:Tournoi Flash de la BAF
END:VEVENT
END:VCALENDAR