BEGIN:VCALENDAR
VERSION:2.0
PRODID:-//hacksw/handcal//NONSGML v1.0//EN
BEGIN:VEVENT
UID:tournoi14209@badiste.fr
DTSTAMP:20260425T120935Z
DTSTART;VALUE=DATE:20221219
DTEND;VALUE=DATE:20221224
DESCRIPTION: http://badiste.fr
LOCATION:+2Bad Arena Rennes  7C Rue des Charmilles 35510 Cesson-Sévigné
SUMMARY:Stage jeunes Noël Rennes #1
END:VEVENT
END:VCALENDAR