BEGIN:VCALENDAR
VERSION:2.0
PRODID:-//hacksw/handcal//NONSGML v1.0//EN
BEGIN:VEVENT
UID:tournoi14208@badiste.fr
DTSTAMP:20260425T120942Z
DTSTART;VALUE=DATE:20221031
DTEND;VALUE=DATE:20221105
DESCRIPTION: http://badiste.fr
LOCATION:+2Bad Arena 7C Rue des Charmilles  35510 Cesson-Sévigné
SUMMARY:Stage jeunes Toussaint Rennes #2
END:VEVENT
END:VCALENDAR