BEGIN:VCALENDAR
VERSION:2.0
PRODID:-//hacksw/handcal//NONSGML v1.0//EN
BEGIN:VEVENT
UID:tournoi14199@badiste.fr
DTSTAMP:20260421T213853Z
DTSTART;VALUE=DATE:20230527
DTEND;VALUE=DATE:20230529
DESCRIPTION: http://badiste.fr
LOCATION:Gymnase Belgique Boulevard de Belgique 38 Rue Elisée Reclus 42300 Roanne
SUMMARY:National Tour Roannais
END:VEVENT
END:VCALENDAR