BEGIN:VCALENDAR
VERSION:2.0
PRODID:-//hacksw/handcal//NONSGML v1.0//EN
BEGIN:VEVENT
UID:tournoi14194@badiste.fr
DTSTAMP:20260421T131750Z
DTSTART;VALUE=DATE:20221105
DTEND;VALUE=DATE:20221106
DESCRIPTION: http://badiste.fr
LOCATION:Gymnase Marcel BRUNOT 110 rue du 4 août 1789  69100 Villeurbanne
SUMMARY:*****ANNULÉ****4° ÉD DU SIMPL'BAD DU GSL Badminton
END:VEVENT
END:VCALENDAR