BEGIN:VCALENDAR
VERSION:2.0
PRODID:-//hacksw/handcal//NONSGML v1.0//EN
BEGIN:VEVENT
UID:tournoi14178@badiste.fr
DTSTAMP:20260420T190521Z
DTSTART;VALUE=DATE:20221105
DTEND;VALUE=DATE:20221107
DESCRIPTION: http://badiste.fr
LOCATION:   49240 Avrillé
SUMMARY:Open Auchan Avrillé 2022
END:VEVENT
END:VCALENDAR