BEGIN:VCALENDAR
VERSION:2.0
PRODID:-//hacksw/handcal//NONSGML v1.0//EN
BEGIN:VEVENT
UID:tournoi14086@badiste.fr
DTSTAMP:20260422T184034Z
DTSTART;VALUE=DATE:20221014
DTEND;VALUE=DATE:20221016
DESCRIPTION: http://badiste.fr
LOCATION:   35830 Betton
SUMMARY:Tournoi Double Mixte de Betton
END:VEVENT
END:VCALENDAR