BEGIN:VCALENDAR
VERSION:2.0
PRODID:-//hacksw/handcal//NONSGML v1.0//EN
BEGIN:VEVENT
UID:tournoi14078@badiste.fr
DTSTAMP:20260424T221401Z
DTSTART;VALUE=DATE:20221009
DTEND;VALUE=DATE:20221010
DESCRIPTION: http://badiste.fr
LOCATION:Gymnase Municipal 51 avenue de Gascogne  33114 Le Barp
SUMMARY:1er Tournois Jeunes et Vétérans
END:VEVENT
END:VCALENDAR