BEGIN:VCALENDAR
VERSION:2.0
PRODID:-//hacksw/handcal//NONSGML v1.0//EN
BEGIN:VEVENT
UID:tournoi14072@badiste.fr
DTSTAMP:20260424T122859Z
DTSTART;VALUE=DATE:20230107
DTEND;VALUE=DATE:20230109
DESCRIPTION: http://badiste.fr
LOCATION:JF Lamour avenue Stalingrad  13200 Arles
SUMMARY:Les volants de l'Arlésienne
END:VEVENT
END:VCALENDAR