BEGIN:VCALENDAR
VERSION:2.0
PRODID:-//hacksw/handcal//NONSGML v1.0//EN
BEGIN:VEVENT
UID:tournoi14053@badiste.fr
DTSTAMP:20260424T155104Z
DTSTART;VALUE=DATE:20230326
DTEND;VALUE=DATE:20230327
DESCRIPTION: http://badiste.fr
LOCATION:La Chênaie 330 Allée du Parc  06370 Mouans-Sartoux
SUMMARY:Trophée Départemental Jeunes - Simple et Mixte
END:VEVENT
END:VCALENDAR