BEGIN:VCALENDAR
VERSION:2.0
PRODID:-//hacksw/handcal//NONSGML v1.0//EN
BEGIN:VEVENT
UID:tournoi14050@badiste.fr
DTSTAMP:20260424T155130Z
DTSTART;VALUE=DATE:20230305
DTEND;VALUE=DATE:20230306
DESCRIPTION: http://badiste.fr
LOCATION:La Fontonne 21 Chemin des Frères Garbero  06600 Antibes
SUMMARY:Trophée Départemental Jeunes - Simple et Mixte
END:VEVENT
END:VCALENDAR