BEGIN:VCALENDAR
VERSION:2.0
PRODID:-//hacksw/handcal//NONSGML v1.0//EN
BEGIN:VEVENT
UID:tournoi14049@badiste.fr
DTSTAMP:20260424T153659Z
DTSTART;VALUE=DATE:20230304
DTEND;VALUE=DATE:20230305
DESCRIPTION: http://badiste.fr
LOCATION:Canteperdrix Av. de la Victoire du 8 Mai 1945  06130 Grasse
SUMMARY:Trophée Départemental Jeunes - Simple et Double
END:VEVENT
END:VCALENDAR