BEGIN:VCALENDAR
VERSION:2.0
PRODID:-//hacksw/handcal//NONSGML v1.0//EN
BEGIN:VEVENT
UID:tournoi14048@badiste.fr
DTSTAMP:20260424T152937Z
DTSTART;VALUE=DATE:20230205
DTEND;VALUE=DATE:20230206
DESCRIPTION: http://badiste.fr
LOCATION:Joseph Pagnol 95 Rue Albert Camus  06700 St Laurent du Var
SUMMARY:Trophée Départemental Adulte - Simple
END:VEVENT
END:VCALENDAR