BEGIN:VCALENDAR
VERSION:2.0
PRODID:-//hacksw/handcal//NONSGML v1.0//EN
BEGIN:VEVENT
UID:tournoi14047@badiste.fr
DTSTAMP:20260424T152939Z
DTSTART;VALUE=DATE:20230121
DTEND;VALUE=DATE:20230123
DESCRIPTION: http://badiste.fr
LOCATION:UFR STAPS 261 Bd du Mercantour  06000 Nice
SUMMARY:Championnats Départementaux Jeunes
END:VEVENT
END:VCALENDAR