BEGIN:VCALENDAR
VERSION:2.0
PRODID:-//hacksw/handcal//NONSGML v1.0//EN
BEGIN:VEVENT
UID:tournoi14044@badiste.fr
DTSTAMP:20260424T152843Z
DTSTART;VALUE=DATE:20230114
DTEND;VALUE=DATE:20230115
DESCRIPTION: http://badiste.fr
LOCATION:UFR STAPS 261 Bd du Mercantour  06000 Nice
SUMMARY:Trophée Départemental Adultes - Simple
END:VEVENT
END:VCALENDAR