BEGIN:VCALENDAR
VERSION:2.0
PRODID:-//hacksw/handcal//NONSGML v1.0//EN
BEGIN:VEVENT
UID:tournoi14041@badiste.fr
DTSTAMP:20260424T153032Z
DTSTART;VALUE=DATE:20221203
DTEND;VALUE=DATE:20221204
DESCRIPTION: http://badiste.fr
LOCATION:Joseph Pagnol 95 Rue Albert Camus  06700 St Laurent du Var
SUMMARY:Trophée Départemental Jeune - Simple
END:VEVENT
END:VCALENDAR