BEGIN:VCALENDAR
VERSION:2.0
PRODID:-//hacksw/handcal//NONSGML v1.0//EN
BEGIN:VEVENT
UID:tournoi14035@badiste.fr
DTSTAMP:20260424T152842Z
DTSTART;VALUE=DATE:20221016
DTEND;VALUE=DATE:20221017
DESCRIPTION: http://badiste.fr
LOCATION:Fort Casal Fort Casal  06670 Colomars
SUMMARY:Challenge du Jeune Badiste
END:VEVENT
END:VCALENDAR