BEGIN:VCALENDAR
VERSION:2.0
PRODID:-//hacksw/handcal//NONSGML v1.0//EN
BEGIN:VEVENT
UID:tournoi14034@badiste.fr
DTSTAMP:20260424T152937Z
DTSTART;VALUE=DATE:20221009
DTEND;VALUE=DATE:20221010
DESCRIPTION: http://badiste.fr
LOCATION:Patrick Berhault Chem. du Castel  06440 L'Escarène
SUMMARY:Trophée Départemental Jeune - Simple et Double
END:VEVENT
END:VCALENDAR