BEGIN:VCALENDAR
VERSION:2.0
PRODID:-//hacksw/handcal//NONSGML v1.0//EN
BEGIN:VEVENT
UID:tournoi14022@badiste.fr
DTSTAMP:20260423T082507Z
DTSTART;VALUE=DATE:20221217
DTEND;VALUE=DATE:20221219
DESCRIPTION: http://badiste.fr
LOCATION:Gymnase de Brantôme 7 rue brigade RAC  24310 Brantôme en Périgord
SUMMARY:100% DUOS : "A 2, c'est toujours mieux"
END:VEVENT
END:VCALENDAR