BEGIN:VCALENDAR
VERSION:2.0
PRODID:-//hacksw/handcal//NONSGML v1.0//EN
BEGIN:VEVENT
UID:tournoi14004@badiste.fr
DTSTAMP:20260425T120936Z
DTSTART;VALUE=DATE:20221203
DTEND;VALUE=DATE:20221205
DESCRIPTION: http://badiste.fr
LOCATION:+2Bad Arena 7C Rue des Charmilles  35510 Cesson-Sévigné
SUMMARY:Stage Week-end +2Bad Rennes #5
END:VEVENT
END:VCALENDAR