BEGIN:VCALENDAR
VERSION:2.0
PRODID:-//hacksw/handcal//NONSGML v1.0//EN
BEGIN:VEVENT
UID:tournoi13999@badiste.fr
DTSTAMP:20260425T120940Z
DTSTART;VALUE=DATE:20221031
DTEND;VALUE=DATE:20221106
DESCRIPTION: http://badiste.fr
LOCATION:CREPS de Bourges 48 av du Maréchal Juin  18000 Bourges
SUMMARY:+2Bad Stages Bourges - 31 octobre au 05 novembre
END:VEVENT
END:VCALENDAR